BEGIN:VCALENDAR
VERSION:2.0
PRODID:-//MSAA - ECPv6.15.20//NONSGML v1.0//EN
CALSCALE:GREGORIAN
METHOD:PUBLISH
X-WR-CALNAME:MSAA
X-ORIGINAL-URL:https://mymsaa.org
X-WR-CALDESC:Events for MSAA
REFRESH-INTERVAL;VALUE=DURATION:PT1H
X-Robots-Tag:noindex
X-PUBLISHED-TTL:PT1H
BEGIN:VTIMEZONE
TZID:America/New_York
BEGIN:DAYLIGHT
TZOFFSETFROM:-0500
TZOFFSETTO:-0400
TZNAME:EDT
DTSTART:20250309T070000
END:DAYLIGHT
BEGIN:STANDARD
TZOFFSETFROM:-0400
TZOFFSETTO:-0500
TZNAME:EST
DTSTART:20251102T060000
END:STANDARD
BEGIN:DAYLIGHT
TZOFFSETFROM:-0500
TZOFFSETTO:-0400
TZNAME:EDT
DTSTART:20260308T070000
END:DAYLIGHT
BEGIN:STANDARD
TZOFFSETFROM:-0400
TZOFFSETTO:-0500
TZNAME:EST
DTSTART:20261101T060000
END:STANDARD
BEGIN:DAYLIGHT
TZOFFSETFROM:-0500
TZOFFSETTO:-0400
TZNAME:EDT
DTSTART:20270314T070000
END:DAYLIGHT
BEGIN:STANDARD
TZOFFSETFROM:-0400
TZOFFSETTO:-0500
TZNAME:EST
DTSTART:20271107T060000
END:STANDARD
END:VTIMEZONE
BEGIN:VEVENT
DTSTART;TZID=America/New_York:20260430T200000
DTEND;TZID=America/New_York:20260430T210000
DTSTAMP:20260422T042338
CREATED:20260319T153549Z
LAST-MODIFIED:20260319T153900Z
UID:35214-1777579200-1777582800@mymsaa.org
SUMMARY:Webinar – Resilient Voices: Practical Voice Techniques for MS Care
DESCRIPTION:Living with MS can sometimes change how your voice feels and sounds. Join MSAA and voice expert Dr. Gloriana Cruz Rivera on this supportive\, hands-on webinar designed to help you speak with greater ease\, clarity\, and confidence. You’ll learn to recognize common voice changes related to MS and practice simple\, fatigue-friendly techniques to support breathing\, improve clarity\, reduce strain\, and make everyday communication smoother and more effective. \n\n\n\nWalk away with practical tools you can start using right away — because your voice matters. \n\n\n\n\n\n \n\n\n\nAbout the Presenter\n\n\n\n\n\n\n\n\n\n\n\nDr. Gloriana Cruz Rivera holds a Clinical Doctorate in Sciences with a specialty in speech-language pathology and voice disorders. Since 2008\, she has combined her passion for teaching with academic and clinical practice\, currently serving as SLPA Program Chair and Assistant Professor at the College of DuPage. She has extensive experience working with professional voice users\, focusing on vocal rehabilitation and healthy voice use. \n\n\n\nDr. Cruz Rivera maintains active professional affiliations with the American Speech-Language-Hearing Association and is co-author of Sing and Shout for Health: Scientific Insights and Future Directions for Vocology (2025).
URL:https://mymsaa.org/event/webinar-resilient-voices-practical-voice-techniques-for-ms-care/
LOCATION:Pennsylvania
ATTACH;FMTTYPE=image/jpeg:https://mymsaa.org/wp-content/uploads/2026/03/cruzrivera.jpg
END:VEVENT
END:VCALENDAR